BEGIN:VCALENDAR
VERSION:2.0
BEGIN:VEVENT
ORGANIZER;CN=HAPL:MAILTO:hapl@hapl.org
STATUS:CONFIRMED
SUMMARY:HAPL 68th Executive Night
DESCRIPTION:For details, link here%3a+https://www.hapl.com/event/1061
DTSTAMP:20240308T101400
DTSTART:20241024T160000
DTEND:20241024T210000
LOCATION:5701 Main Street Houston, TX 77005
BEGIN:VALARM
TRIGGER:-PT15M
ACTION:DISPLAY
END:VALARM
END:VEVENT
END:VCALENDAR