BEGIN:VCALENDAR
VERSION:2.0
BEGIN:VEVENT
ORGANIZER;CN=HAPL:MAILTO:hapl@hapl.org
STATUS:CONFIRMED
SUMMARY:Permitting/Production Forms and Procedures Seminar
DESCRIPTION:For details, link here%3a+https://www.hapl.com/event/108
DTSTAMP:20070413T232100
DTSTART:20070509T073000
DTEND:20070509T173000
LOCATION:707 N. Shoreline Blvd Corpus Christi, Texas 78401
BEGIN:VALARM
TRIGGER:-PT15M
ACTION:DISPLAY
END:VALARM
END:VEVENT
END:VCALENDAR