BEGIN:VCALENDAR
VERSION:2.0
BEGIN:VEVENT
ORGANIZER;CN=HAPL:MAILTO:hapl@hapl.org
STATUS:CONFIRMED
SUMMARY:AAPL Annual Gulf Coast Land Institute
DESCRIPTION:For details, link here%3a+https://www.hapl.com/event/128
DTSTAMP:20070913T213100
DTSTART:20071011T074500
DTEND:20071012T133000
LOCATION:214 Royal Street New Orleans, LA 70130
BEGIN:VALARM
TRIGGER:-PT15M
ACTION:DISPLAY
END:VALARM
END:VEVENT
END:VCALENDAR