BEGIN:VCALENDAR
VERSION:2.0
BEGIN:VEVENT
ORGANIZER;CN=HAPL:MAILTO:hapl@hapl.org
STATUS:CONFIRMED
SUMMARY:Advanced Oil, Gas and Energy Resources Law Course
DESCRIPTION:For details, link here%3a+https://www.hapl.com/event/14
DTSTAMP:20060829T221100
DTSTART:20061005T080000
DTEND:20061006T173000
LOCATION:5011 Westheimer Houston, TX 
BEGIN:VALARM
TRIGGER:-PT15M
ACTION:DISPLAY
END:VALARM
END:VEVENT
END:VCALENDAR