BEGIN:VCALENDAR
VERSION:2.0
BEGIN:VEVENT
ORGANIZER;CN=HAPL:MAILTO:hapl@hapl.org
STATUS:CONFIRMED
SUMMARY:Louisiana Oil and Gas: From SONRIS to Sunset
DESCRIPTION:For details, link here%3a+https://www.hapl.com/event/140
DTSTAMP:20071101T092200
DTSTART:20071203T080000
DTEND:20071204T170000
LOCATION:444 St. Charles Ave New Orleans, LA 70130
BEGIN:VALARM
TRIGGER:-PT15M
ACTION:DISPLAY
END:VALARM
END:VEVENT
END:VCALENDAR