BEGIN:VCALENDAR
VERSION:2.0
BEGIN:VEVENT
ORGANIZER;CN=HAPL:MAILTO:hapl@hapl.org
STATUS:CONFIRMED
SUMMARY:Midstream Issues &amp; Agreements Course - Rocky Mtn Min Law Fndn
DESCRIPTION:For details, link here%3a+https://www.hapl.com/event/184
DTSTAMP:20080429T214100
DTSTART:20080929T080000
DTEND:20081003T160000
LOCATION:400 Dallas Street Houston, Texas 77002
BEGIN:VALARM
TRIGGER:-PT15M
ACTION:DISPLAY
END:VALARM
END:VEVENT
END:VCALENDAR