BEGIN:VCALENDAR
VERSION:2.0
BEGIN:VEVENT
ORGANIZER;CN=HAPL:MAILTO:hapl@hapl.org
STATUS:CONFIRMED
SUMMARY:HAPL Annual Rockies Rendezvous Social
DESCRIPTION:For details, link here%3a+https://www.hapl.com/event/231
DTSTAMP:20140206T094500
DTSTART:20140501T173000
DTEND:20140501T193000
LOCATION:2000 Lyons Ave Houston, TX 77020
BEGIN:VALARM
TRIGGER:-PT15M
ACTION:DISPLAY
END:VALARM
END:VEVENT
END:VCALENDAR