BEGIN:VCALENDAR
VERSION:2.0
BEGIN:VEVENT
ORGANIZER;CN=HAPL:MAILTO:hapl@hapl.org
STATUS:CONFIRMED
SUMMARY:HBA, Oil, Gas and Mineral Law Section Luncheon
DESCRIPTION:For details, link here%3a+https://www.hapl.com/event/259
DTSTAMP:20090615T151600
DTSTART:20090623T113000
DTEND:20090623T130000
LOCATION:10th Floor Houston, TX 
BEGIN:VALARM
TRIGGER:-PT15M
ACTION:DISPLAY
END:VALARM
END:VEVENT
END:VCALENDAR