BEGIN:VCALENDAR
VERSION:2.0
BEGIN:VEVENT
ORGANIZER;CN=HAPL:MAILTO:hapl@hapl.org
STATUS:CONFIRMED
SUMMARY:HAPL Annual Awards Dinner
DESCRIPTION:For details, link here%3a+https://www.hapl.com/event/350
DTSTAMP:20110331T110900
DTSTART:20110602T173000
DTEND:20110602T213000
LOCATION:5701 Main Street Houston, TX 77005
BEGIN:VALARM
TRIGGER:-PT15M
ACTION:DISPLAY
END:VALARM
END:VEVENT
END:VCALENDAR