BEGIN:VCALENDAR
VERSION:2.0
BEGIN:VEVENT
ORGANIZER;CN=HAPL:MAILTO:hapl@hapl.org
STATUS:CONFIRMED
SUMMARY:Benefit Social for Stephanie Sullivan&#39;s Son (Kerry Marcantel, Jr)
DESCRIPTION:For details, link here%3a+https://www.hapl.com/event/361
DTSTAMP:20120731T143400
DTSTART:20120816T180000
DTEND:20120816T200000
LOCATION:2000 Lyons Houston, TX 77020
BEGIN:VALARM
TRIGGER:-PT15M
ACTION:DISPLAY
END:VALARM
END:VEVENT
END:VCALENDAR