BEGIN:VCALENDAR
VERSION:2.0
BEGIN:VEVENT
ORGANIZER;CN=HAPL:MAILTO:hapl@hapl.org
STATUS:CONFIRMED
SUMMARY:NHAPL  - Welcome Back Social
DESCRIPTION:For details, link here%3a+https://www.hapl.com/event/38
DTSTAMP:20060920T174400
DTSTART:20060928T170000
DTEND:20060928T190000
LOCATION:15315 North Freeway Houston, Texas 77090
BEGIN:VALARM
TRIGGER:-PT15M
ACTION:DISPLAY
END:VALARM
END:VEVENT
END:VCALENDAR