BEGIN:VCALENDAR
VERSION:2.0
BEGIN:VEVENT
ORGANIZER;CN=HAPL:MAILTO:hapl@hapl.org
STATUS:CONFIRMED
SUMMARY:HAPL 4th Annual Shale Play Seminar - approved for 7 CPL/RPL/RL, 7 CLE &amp; 7 CDOA credits!!
DESCRIPTION:For details, link here%3a+https://www.hapl.com/event/398
DTSTAMP:20130710T140500
DTSTART:20131003T083000
DTEND:20131003T164500
LOCATION:1001 West Loop South, Ste. 400 Houston, TX 77027
BEGIN:VALARM
TRIGGER:-PT15M
ACTION:DISPLAY
END:VALARM
END:VEVENT
END:VCALENDAR