BEGIN:VCALENDAR
VERSION:2.0
BEGIN:VEVENT
ORGANIZER;CN=HAPL:MAILTO:hapl@hapl.org
STATUS:CONFIRMED
SUMMARY:Louisiana Oil &amp; Gas:  From SONRIS to Sunset Seminar
DESCRIPTION:For details, link here%3a+https://www.hapl.com/event/413
DTSTAMP:20100625T141900
DTSTART:20100823T080000
DTEND:20100824T163000
LOCATION:123 Baronne St. New Orleans, LA 70112
BEGIN:VALARM
TRIGGER:-PT15M
ACTION:DISPLAY
END:VALARM
END:VEVENT
END:VCALENDAR