BEGIN:VCALENDAR
VERSION:2.0
BEGIN:VEVENT
ORGANIZER;CN=HAPL:MAILTO:hapl@hapl.org
STATUS:CONFIRMED
SUMMARY:Profiting in Unconventional Plays through A&amp;D, Mergers &amp; Partnering
DESCRIPTION:For details, link here%3a+https://www.hapl.com/event/67
DTSTAMP:20070116T220400
DTSTART:20070130T070000
DTEND:20070130T170000
LOCATION:400 Dallas Street Houston, Texas 77002
BEGIN:VALARM
TRIGGER:-PT15M
ACTION:DISPLAY
END:VALARM
END:VEVENT
END:VCALENDAR