BEGIN:VCALENDAR
VERSION:2.0
BEGIN:VEVENT
ORGANIZER;CN=HAPL:MAILTO:hapl@hapl.org
STATUS:CONFIRMED
SUMMARY:AAPL Rockies Land Institute- Albuquerque
DESCRIPTION:For details, link here%3a+https://www.hapl.com/event/75
DTSTAMP:20070123T221700
DTSTART:20070917T080000
DTEND:20070917T173000
LOCATION:800 Rio Grande Blvd NW Albuquerque, New Mexico 87104
BEGIN:VALARM
TRIGGER:-PT15M
ACTION:DISPLAY
END:VALARM
END:VEVENT
END:VCALENDAR