BEGIN:VCALENDAR
VERSION:2.0
BEGIN:VEVENT
ORGANIZER;CN=HAPL:MAILTO:hapl@hapl.org
STATUS:CONFIRMED
SUMMARY:2019 AAPL Texas Land Institute            
DESCRIPTION:For details, link here%3a+https://www.hapl.com/event/838
DTSTAMP:20191105T142100
DTSTART:20191204T080000
DTEND:20191204T170000
LOCATION:945 Gessner Rd Houston, TX 77024
BEGIN:VALARM
TRIGGER:-PT15M
ACTION:DISPLAY
END:VALARM
END:VEVENT
END:VCALENDAR