BEGIN:VCALENDAR
VERSION:2.0
BEGIN:VEVENT
ORGANIZER;CN=HAPL:MAILTO:hapl@hapl.org
STATUS:CONFIRMED
SUMMARY:AAPL Working Interest and Net Revenue Interest Seminar (Basic and Advanced 2 Day Option)
DESCRIPTION:For details, link here%3a+https://www.hapl.com/event/845
DTSTAMP:20191217T111300
DTSTART:20200220T000000
DTEND:20200221T235900
LOCATION:12245 Katy Freeway Houston, TX 77079
BEGIN:VALARM
TRIGGER:-PT15M
ACTION:DISPLAY
END:VALARM
END:VEVENT
END:VCALENDAR