BEGIN:VCALENDAR
VERSION:2.0
BEGIN:VEVENT
ORGANIZER;CN=HAPL:MAILTO:hapl@hapl.org
STATUS:CONFIRMED
SUMMARY:6th Annual Energy Law Negotiation Competition 
DESCRIPTION:For details, link here%3a+https://www.hapl.com/event/857
DTSTAMP:20200305T115600
DTSTART:20200404T000000
DTEND:20200404T235900
LOCATION:1303 San Jacinto Houston, Texas 77002
BEGIN:VALARM
TRIGGER:-PT15M
ACTION:DISPLAY
END:VALARM
END:VEVENT
END:VCALENDAR