BEGIN:VCALENDAR
VERSION:2.0
BEGIN:VEVENT
ORGANIZER;CN=HAPL:MAILTO:hapl@hapl.org
STATUS:CONFIRMED
SUMMARY:HAPL December Free Webinar
DESCRIPTION:For details, link here%3a+https://www.hapl.com/event/876
DTSTAMP:20200903T151800
DTSTART:20201209T120000
DTEND:20201209T130000
LOCATION:  
BEGIN:VALARM
TRIGGER:-PT15M
ACTION:DISPLAY
END:VALARM
END:VEVENT
END:VCALENDAR