BEGIN:VCALENDAR
VERSION:2.0
BEGIN:VEVENT
ORGANIZER;CN=HAPL:MAILTO:hapl@hapl.org
STATUS:CONFIRMED
SUMMARY:HAPL March Webinar
DESCRIPTION:For details, link here%3a+https://www.hapl.com/event/889
DTSTAMP:20201111T134200
DTSTART:20210309T113000
DTEND:20210309T130000
LOCATION: Houston, TX 
BEGIN:VALARM
TRIGGER:-PT15M
ACTION:DISPLAY
END:VALARM
END:VEVENT
END:VCALENDAR