BEGIN:VCALENDAR
VERSION:2.0
BEGIN:VEVENT
ORGANIZER;CN=HAPL:MAILTO:hapl@hapl.org
STATUS:CONFIRMED
SUMMARY:Texas RRC Webinar/Luncheon Hosted By Kuiper Law Firm 
DESCRIPTION:For details, link here%3a+https://www.hapl.com/event/894
DTSTAMP:20210126T105300
DTSTART:20210310T120000
DTEND:20210310T130000
LOCATION:1201 Louisiana Houston, TX 77002
BEGIN:VALARM
TRIGGER:-PT15M
ACTION:DISPLAY
END:VALARM
END:VEVENT
END:VCALENDAR