BEGIN:VCALENDAR
VERSION:2.0
BEGIN:VEVENT
ORGANIZER;CN=HAPL:MAILTO:hapl@hapl.org
STATUS:CONFIRMED
SUMMARY:NARO Texas &amp; New Mexico Convention
DESCRIPTION:For details, link here%3a+https://www.hapl.com/event/904
DTSTAMP:20210512T102200
DTSTART:20210714T000000
DTEND:20210717T235900
LOCATION:4 Riverway Houston, TX 77056
BEGIN:VALARM
TRIGGER:-PT15M
ACTION:DISPLAY
END:VALARM
END:VEVENT
END:VCALENDAR