BEGIN:VCALENDAR
VERSION:2.0
BEGIN:VEVENT
ORGANIZER;CN=HAPL:MAILTO:hapl@hapl.org
STATUS:CONFIRMED
SUMMARY:HAPL November Luncheon Live Webcast
DESCRIPTION:For details, link here%3a+https://www.hapl.com/event/928
DTSTAMP:20211014T101100
DTSTART:20211102T120000
DTEND:20211102T130000
LOCATION:  
BEGIN:VALARM
TRIGGER:-PT15M
ACTION:DISPLAY
END:VALARM
END:VEVENT
END:VCALENDAR